BEGIN:VCALENDAR
VERSION:2.0
PRODID:-//New York Department SUVCW - ECPv6.11.2.1//NONSGML v1.0//EN
CALSCALE:GREGORIAN
METHOD:PUBLISH
X-WR-CALNAME:New York Department SUVCW
X-ORIGINAL-URL:https://nysuvcw.org
X-WR-CALDESC:Events for New York Department SUVCW
REFRESH-INTERVAL;VALUE=DURATION:PT1H
X-Robots-Tag:noindex
X-PUBLISHED-TTL:PT1H
BEGIN:VTIMEZONE
TZID:UTC
BEGIN:STANDARD
TZOFFSETFROM:+0000
TZOFFSETTO:+0000
TZNAME:UTC
DTSTART:20230101T000000
END:STANDARD
END:VTIMEZONE
BEGIN:VEVENT
DTSTART;TZID=UTC:20230430T110000
DTEND;TZID=UTC:20230430T130000
DTSTAMP:20260420T022629
CREATED:20190208T162456Z
LAST-MODIFIED:20230403T194411Z
UID:2967-1682852400-1682859600@nysuvcw.org
SUMMARY:201st Annual Birthday Commemoration Grant's Tomb Ceremony
DESCRIPTION:Oliver Tilden Camp #26 extends an invitation to you from the 2023 General Grant Birthday Committee for the upcoming ceremony \nat Grant’s Tomb on Sunday\, April 30\, 2023\, at 11:00 AM. \nDownload the Grant’s Tomb Memorial Booster AD form here \nPlease let us know if you plan on attending our service to honor General and President US Grant.  \nPlease contact Bro. Arthur P. Kirmss or Tilden Commander Bro. George Weinmann\, PDC for more information.\nDear officers\, members and friends of Tilden Camp: \nOliver Tilden Camp #26 extends an invitation to you from the 2023 General Grant Birthday Committee for the 201st Birthday Commemoration Ceremony at Grant’s Tomb (West 122nd St. & Riverside Drive\, Manhattan\, NY)\, Sunday\, April 30\, 2023 at 11:00 AM. Many officers and members from organizations of the Allied Orders of the Grand Army of the Republic will be in attendance along with historical and patriotic organizations. New members will be initiated during the ceremony.\n \nEach year the camp’s General Grant Committee solicits “Memorials and Boosters” from our members and from organizations to help us defray the cost of a wreath\, ribbons and printed programs. “Memorials” honor our Civil War ancestors or deceased brothers. “Boosters” allow organizations to demonstrate their support of the Annual Commemoration of having their name and address appear in the printed program.\n \nFind attached our Grant Memorial/Booster form.\nYour financial support of this effort is very much appreciated.\n\n \nYours in\,Fraternity\, Charity and Loyalty\,George J. Weinmann\, (Commander) CaptainCo. I\, 83rd New York Vol. (9th NYSM)\, SVRCommander Oliver Tilden Camp #26\, SUVCW Past NY Department Commander  Sons of Union Veterans of the Civil War1 Centre Street\, 22nd Floor\, Suite 2208New York\, NY 10007
URL:https://nysuvcw.org/event/200th-annual-birthday-commemoration-grants-tomb-ceremony
LOCATION:Grant’s Tomb NYC\, National Monument on Riverside Drive and West 122nd Street\, Morningside Heights\,\, Manhattan\, New York City\, NY\, NY\, United States
ATTACH;FMTTYPE=image/jpeg:https://nysuvcw.org/wp-content/uploads/2014/07/grants-tomb.jpg
ORGANIZER;CN="Capt. Oliver Tilden Camp No. 26%2C New York CIty%2C NY SUVCW":MAILTO:arthurkirmss@earthlink.net
END:VEVENT
END:VCALENDAR