BEGIN:VCALENDAR
VERSION:2.0
PRODID:-//New York Department SUVCW - ECPv6.11.2.1//NONSGML v1.0//EN
CALSCALE:GREGORIAN
METHOD:PUBLISH
X-WR-CALNAME:New York Department SUVCW
X-ORIGINAL-URL:https://nysuvcw.org
X-WR-CALDESC:Events for New York Department SUVCW
REFRESH-INTERVAL;VALUE=DURATION:PT1H
X-Robots-Tag:noindex
X-PUBLISHED-TTL:PT1H
BEGIN:VTIMEZONE
TZID:UTC
BEGIN:STANDARD
TZOFFSETFROM:+0000
TZOFFSETTO:+0000
TZNAME:UTC
DTSTART:20190101T000000
END:STANDARD
END:VTIMEZONE
BEGIN:VEVENT
DTSTART;VALUE=DATE:20220513
DTEND;VALUE=DATE:20220515
DTSTAMP:20260420T040411
CREATED:20190208T171605Z
LAST-MODIFIED:20220316T023206Z
UID:2985-1652400000-1652572799@nysuvcw.org
SUMMARY:2022 139th NY Department Allied Orders of the GAR Encampment
DESCRIPTION:The 2022 New York Department Allied Orders of the Grand Army of the Republic (GAR) Encampment\n139th New York Department Encampment SUVCW\, Binghamton\, NY\n \nMay 13th-14th\, 2022 at the DoubleTree by Hilton Hotel.\nVisit for more information: http://nysuvcw.org/encampment
URL:https://nysuvcw.org/event/2022-ny-department-allied-orders-of-the-gar-encampment
LOCATION:Doubletree by Hilton Hotel\, Binghamton\, NY\, 225 Water Street\, Binghamton\, NY\, 13901\, United States
ATTACH;FMTTYPE=image/jpeg:https://nysuvcw.org/wp-content/uploads/2022/02/doubletree.jpg
ORGANIZER;CN="New York Department%2C SUVCW":MAILTO:info@nysuvcw.org
END:VEVENT
BEGIN:VEVENT
DTSTART;TZID=UTC:20211016T120000
DTEND;TZID=UTC:20211016T140000
DTSTAMP:20260420T040411
CREATED:20210902T183406Z
LAST-MODIFIED:20210902T183843Z
UID:4298-1634385600-1634392800@nysuvcw.org
SUMMARY:2021 Department Mid-Year Meeting
DESCRIPTION:Mid­Year meeting of the Department of New York\, SUVCW \nSaturday\, 16 October 2021 @ 12 noon @ the Eagles Club 161 Cecil Malone Drive\, Ithaca\, NY 14850 \n(The Eagles Club is behind Wegman’s Grocery store on Route 13. \nYou would turn at the Super 8 which is on Route 13 coming from North or South. \na. There will be a lite lunch available for $5.00. \nb. RSVP to Cmdr. Castler so that the Department can get a better number of how many may attend. \nc. Pursuant to the Department Bylaws\, the purpose of the meeting will be for “discussing\nand formulating plans for the betterment of the Order\, such plans to be submitted to the\nfollowing annual Department Encampment for such action as a majority vote of those\npresent at said Encampment may decide.” In addition to other topics\, we will be\ndiscussing the Dept. Archives\, Future Dept. Encampment Planning\, and future plans for the betterment\nof the Department. All brothers and sisters are invited. \nd. No funds of the Department may be disbursed at the Mid­Year Meeting and the\nThe department shall be in no way responsible or liable for the traveling expenses of anyone\nattending the Mid­Year Meeting. \ne. In order to ensure the business of the Department is being furthered\, I am asking for all\ninterim mid­year reports to be due by Friday\, 1 October 2021. All Department Officers\, Department\nCommittees and Department Special Committees are to file with the Department\nCommander\, with a copy to the Department Secretary a brief report of their activities\nand/or progress. This includes the Department standing committees such as the\nDepartment Encampment Committee\, Legislation Committee\, etc. The Department\nMusician\, Guide\, Guard\, and Color Bearer are excused from this order. In addition\, all Camp Commanders should also file a report by that time of their camp activities. Said reports can be filed electronically via email or via U.S. Mail. \nf. Copies of all reports filed will be made available at the Mid­Year Meeting and\nDepartment Encampment and may be posted on the Department website
URL:https://nysuvcw.org/event/2021-department-mid-year-meeting
LOCATION:The Eagles Club 161 Cecil Malone Drive\, Ithaca\, NY 14850\, 161 Cecil Malone Drive\, Ithaca\, NY\, NY\, 14850\, United States
END:VEVENT
BEGIN:VEVENT
DTSTART;VALUE=DATE:20200605
DTEND;VALUE=DATE:20200607
DTSTAMP:20260420T040411
CREATED:20200127T223849Z
LAST-MODIFIED:20200416T015656Z
UID:3939-1591315200-1591487999@nysuvcw.org
SUMMARY:2020 New York Department Encampment
DESCRIPTION:The Department will hold its 137th Department of New York Encampment via teleconferencing on June 5th and 6th in compliance with National General Orders.  \nZoom Video Communication will be used and can be accessed by laptop\, desktop and both I phone and android phones. \nSend your Registration form and $10.00 registration fee to Department Secretary\, Robert Pugsley\, by May 20th\, \nThe 137th Department of New York Encampment Ribbon will be mailed to all Brothers who registered. \nRegistration will allow access to the Encampment via Zoom Teleconferencing.  \nCamp Secretaries\, delegate cards for your camp need to be received by Department Secretary Pugsley no later than May 30th. \nOfficers and Committees Reports by May 25th. Information on the Teleconferencing of the Encampment will be posted on the Department Web site. \nMore Information To Be Announced\, Please follow Department Orders…
URL:https://nysuvcw.org/event/2020-new-york-department-encampment
LOCATION:Zoom Video Conference\, NY\, United States
CATEGORIES:Advertisement,Anentss
ATTACH;FMTTYPE=image/png:https://nysuvcw.org/wp-content/uploads/2020/01/zoom-video.png
END:VEVENT
BEGIN:VEVENT
DTSTART;TZID=UTC:20191012T100000
DTEND;TZID=UTC:20191012T160000
DTSTAMP:20260420T040411
CREATED:20190628T001843Z
LAST-MODIFIED:20190628T002749Z
UID:3864-1570874400-1570896000@nysuvcw.org
SUMMARY:Department Mid-Year Meeting
DESCRIPTION:The Department Commander shall call a Mid-Year Meeting\, between September 1 and November 1 at some centrally located point for the purpose of discussing and formulating plans for the betterment of the Order\, such plans to be submitted to the following annual Department Encampment for such action as a majority vote of those present at said Encampment may decide.\nNo funds of the Department may be disbursed at the Mid-Year Meeting and the Department shall be in no way responsible or liable for the traveling expenses of anyone attending the Mid-Year Meeting. \nNOTE: The Doors will open at 8 am for early arrivals. \nPlease see Department Order #5 for more information.
URL:https://nysuvcw.org/event/department-mid-year-meeting
LOCATION:Ithaca Veteran Firemen’s Association Hall 638 Elmira Rd\, Ithaca\, NY 14850\, 638 Elmira Road\, Ithaca\, NY\, 14850\, United States
ATTACH;FMTTYPE=image/jpeg:https://nysuvcw.org/wp-content/uploads/2019/06/ithaca.jpg
ORGANIZER;CN="New York Department%2C SUVCW":MAILTO:restraight1@gmail.com
END:VEVENT
BEGIN:VEVENT
DTSTART;VALUE=DATE:20190808
DTEND;VALUE=DATE:20190812
DTSTAMP:20260420T040411
CREATED:20190413T004846Z
LAST-MODIFIED:20190413T004846Z
UID:3601-1565222400-1565567999@nysuvcw.org
SUMMARY:The 138th Annual National Encampment of the Allied Orders of the Grand Army of the Republic
DESCRIPTION:The 138th Annual Encampment of the Allied Orders of the Grand Army of the Republic to be held in Independence\, OH on August 8 – August 11\, 2019. 
URL:https://nysuvcw.org/event/the-138th-annual-national-encampment-of-the-allied-orders-of-the-grand-army-of-the-republic
LOCATION:DoubleTree by Hilton Hotel Cleveland – Independence\, 6200 Quarry Lane\, Independence\, NY\, 44131-2218\, United States
END:VEVENT
END:VCALENDAR