BEGIN:VCALENDAR
VERSION:2.0
PRODID:-//New York Department SUVCW - ECPv6.11.2.1//NONSGML v1.0//EN
CALSCALE:GREGORIAN
METHOD:PUBLISH
X-ORIGINAL-URL:https://nysuvcw.org
X-WR-CALDESC:Events for New York Department SUVCW
REFRESH-INTERVAL;VALUE=DURATION:PT1H
X-Robots-Tag:noindex
X-PUBLISHED-TTL:PT1H
BEGIN:VTIMEZONE
TZID:UTC
BEGIN:STANDARD
TZOFFSETFROM:+0000
TZOFFSETTO:+0000
TZNAME:UTC
DTSTART:20230101T000000
END:STANDARD
END:VTIMEZONE
BEGIN:VEVENT
DTSTART;TZID=UTC:20230422T110000
DTEND;TZID=UTC:20230422T130000
DTSTAMP:20260419T223633
CREATED:20230419T002100Z
LAST-MODIFIED:20230419T002812Z
UID:4793-1682161200-1682168400@nysuvcw.org
SUMMARY:Headstone Dedication Ceremony to honor Franz Huels\, Drummer & Corporal\, 46th NY Infantry
DESCRIPTION:The Moses A. Baldwin Camp #544 Sons of Union Veterans of the Civil War\, Long Island\, NY\, joined by brothers of the Oliver Tilden Camp #26\, SUVCW\, Brooklyn\, NY will conduct a headstone dedication ceremony on April 22\, 2023 at 11 AM in Most Holy Trinity Cemetery\, Brooklyn\, NY to honor Franz Huels\, Drummer & Corporal\, 46th NY Infantry and gggrandfather of brother Bill Wagner of the MAB Camp. Brother Bruce Weidenburner will sing the National Anthem\, Joe Badamo will play the drum\, Camp Commander Don McMahon will conduct the GAR Ceremony\, Brother Stephen Zawislak will play Taps\, and the 14th Brooklyn (“They never left the field in disarray”) Living History Society will fire the volleys. Donations and petitions will be solicited for the budding Greenpoint Monitor Museum in the field and at the luncheon to follow at the Plattduetsche Park Restaurant\, Franklin Square\, NY.  After the War\, Franz raised his family in Greenpoint. Remembering the Boys in Blue\, 1861-1865.\nContact:  Dennis J. Duffy\, Camp Secretary\,  duffy99999@aol.com   516-593-0198
URL:https://nysuvcw.org/event/headstone-dedication-ceremony-to-honor-franz-huels-drummer-corporal-46th-ny-infantry
LOCATION:Most Holy Trinity Cemetery\, Brooklyn\, NY\, NY\, United States
ATTACH;FMTTYPE=image/jpeg:https://nysuvcw.org/wp-content/uploads/2023/04/huels.jpg
ORGANIZER;CN="The Moses A. Baldwin Camp #544 Sons of Union Veterans of the Civil War%2C Long Island%2C NY":MAILTO:duffy99999@aol.com
END:VEVENT
END:VCALENDAR