BEGIN:VCALENDAR
VERSION:2.0
PRODID:-//New York Department SUVCW - ECPv6.11.2.1//NONSGML v1.0//EN
CALSCALE:GREGORIAN
METHOD:PUBLISH
X-WR-CALNAME:New York Department SUVCW
X-ORIGINAL-URL:https://nysuvcw.org
X-WR-CALDESC:Events for New York Department SUVCW
REFRESH-INTERVAL;VALUE=DURATION:PT1H
X-Robots-Tag:noindex
X-PUBLISHED-TTL:PT1H
BEGIN:VTIMEZONE
TZID:UTC
BEGIN:STANDARD
TZOFFSETFROM:+0000
TZOFFSETTO:+0000
TZNAME:UTC
DTSTART:20210101T000000
END:STANDARD
END:VTIMEZONE
BEGIN:VEVENT
DTSTART;TZID=UTC:20211016T120000
DTEND;TZID=UTC:20211016T140000
DTSTAMP:20260421T060513
CREATED:20210902T183406Z
LAST-MODIFIED:20210902T183843Z
UID:4298-1634385600-1634392800@nysuvcw.org
SUMMARY:2021 Department Mid-Year Meeting
DESCRIPTION:Mid­Year meeting of the Department of New York\, SUVCW \nSaturday\, 16 October 2021 @ 12 noon @ the Eagles Club 161 Cecil Malone Drive\, Ithaca\, NY 14850 \n(The Eagles Club is behind Wegman’s Grocery store on Route 13. \nYou would turn at the Super 8 which is on Route 13 coming from North or South. \na. There will be a lite lunch available for $5.00. \nb. RSVP to Cmdr. Castler so that the Department can get a better number of how many may attend. \nc. Pursuant to the Department Bylaws\, the purpose of the meeting will be for “discussing\nand formulating plans for the betterment of the Order\, such plans to be submitted to the\nfollowing annual Department Encampment for such action as a majority vote of those\npresent at said Encampment may decide.” In addition to other topics\, we will be\ndiscussing the Dept. Archives\, Future Dept. Encampment Planning\, and future plans for the betterment\nof the Department. All brothers and sisters are invited. \nd. No funds of the Department may be disbursed at the Mid­Year Meeting and the\nThe department shall be in no way responsible or liable for the traveling expenses of anyone\nattending the Mid­Year Meeting. \ne. In order to ensure the business of the Department is being furthered\, I am asking for all\ninterim mid­year reports to be due by Friday\, 1 October 2021. All Department Officers\, Department\nCommittees and Department Special Committees are to file with the Department\nCommander\, with a copy to the Department Secretary a brief report of their activities\nand/or progress. This includes the Department standing committees such as the\nDepartment Encampment Committee\, Legislation Committee\, etc. The Department\nMusician\, Guide\, Guard\, and Color Bearer are excused from this order. In addition\, all Camp Commanders should also file a report by that time of their camp activities. Said reports can be filed electronically via email or via U.S. Mail. \nf. Copies of all reports filed will be made available at the Mid­Year Meeting and\nDepartment Encampment and may be posted on the Department website
URL:https://nysuvcw.org/event/2021-department-mid-year-meeting
LOCATION:The Eagles Club 161 Cecil Malone Drive\, Ithaca\, NY 14850\, 161 Cecil Malone Drive\, Ithaca\, NY\, NY\, 14850\, United States
END:VEVENT
END:VCALENDAR